BEGIN:VCALENDAR
VERSION:2.0
PRODID:DPCALENDAR
CALSCALE:GREGORIAN
BEGIN:VTIMEZONE
TZID:Europe/Berlin
X-MICROSOFT-CDO-TZID:4
BEGIN:STANDARD
DTSTART:20251026T010000
TZOFFSETFROM:+0200
TZOFFSETTO:+0100
TZNAME:CET
END:STANDARD
BEGIN:STANDARD
DTSTART:20261025T010000
TZOFFSETFROM:+0200
TZOFFSETTO:+0100
TZNAME:CET
END:STANDARD
BEGIN:DAYLIGHT
DTSTART:20260329T010000
TZOFFSETFROM:+0100
TZOFFSETTO:+0200
TZNAME:CEST
END:DAYLIGHT
END:VTIMEZONE
X-WR-TIMEZONE:Europe/Berlin
BEGIN:VEVENT
DTSTART;TZID=Europe/Berlin:20231112T090000
DTEND;TZID=Europe/Berlin:20231112T140000
UID:6DA45195-CFB1-4724-96D0-F8F64C75389E
SUMMARY:Gaujugendpreisplatteln Inngau 2023
CREATED:20230907T130437Z
DTSTAMP:20230907T130437Z
URL:https://edelweiss-aibling.de/index.php/termine/gaujugendpreisplatteln-inngau-2023
DESCRIPTION:\NGaujugendpreisplatteln\N \N\NWendelsteinhalle Brannenburg
X-ALT-DESC;FMTTYPE=text/html:<div class="jev_evdt_desc"><p>Gaujugendpreisplatteln</p><p> </p></div><div class="jev_evdt_location"><span class="location">Wendelsteinhalle Brannenburg<br /></span></div>
LAST-MODIFIED:20231105T071412Z
SEQUENCE:5076575
X-ACCESS:1
X-HITS:45
X-COLOR:fa0505
X-SHOW-END-TIME:1
END:VEVENT
BEGIN:VEVENT
DTSTART;TZID=Europe/Berlin:20231117T200000
DTEND;TZID=Europe/Berlin:20231117T220000
UID:63394C76-D37F-4CC6-9465-868CE157F93C
SUMMARY:Boarische Singstund
CREATED:20231105T070420Z
DTSTAMP:20231105T070420Z
URL:https://edelweiss-aibling.de/index.php/termine/boarische-singstund
DESCRIPTION:Boarische Singstund\NOrt: Vereinshaus Achentaler Rohrdorf
X-ALT-DESC;FMTTYPE=text/html:<p>Boarische Singstund</p><p>Ort: Vereinshaus Achentaler Rohrdorf</p>
LAST-MODIFIED:20231105T080135Z
SEQUENCE:3435
LOCATION:
GEO:47.79936375;12.16762972
X-LOCATION-DISPLAYNAME:Deutschland, Bayern, Landkreis Rosenheim, Rohrdorf, 83101, St.-Jakobus-Platz, 2
X-ACCESS:1
X-HITS:15
X-COLOR:fa0505
X-SHOW-END-TIME:0
END:VEVENT
BEGIN:VEVENT
DTSTART;TZID=Europe/Berlin:20240128T130000
DTEND;TZID=Europe/Berlin:20240128T140000
UID:0A4A1BBC-7F03-43CF-BE93-34B31DFCDC47
SUMMARY:Gaujugendtanz
CREATED:20231105T081242Z
DTSTAMP:20231105T081242Z
URL:https://edelweiss-aibling.de/index.php/termine/gaujugendtanz
DESCRIPTION:Gaujugendtanz\NOrt: Gasthof Höhensteiger, Westerndorf St. Peter
X-ALT-DESC;FMTTYPE=text/html:<p>Gaujugendtanz</p><p>Ort: Gasthof Höhensteiger, Westerndorf St. Peter</p>
LAST-MODIFIED:20231105T084251Z
SEQUENCE:1809
LOCATION:
GEO:47.87766595;12.11234304
X-LOCATION-DISPLAYNAME:Deutschland, Bayern, Rosenheim, 83024, Westerndorfer Straße, 101
X-ACCESS:1
X-HITS:39
X-COLOR:fa0505
X-SHOW-END-TIME:0
END:VEVENT
BEGIN:VEVENT
DTSTART;TZID=Europe/Berlin:20240419T200000
DTEND;TZID=Europe/Berlin:20240419T235900
UID:7BE5D9F3-278F-4F08-9249-65D4702164C5
SUMMARY:Gauball in Brannenburg
CREATED:20240225T084937Z
DTSTAMP:20240225T084937Z
URL:https://edelweiss-aibling.de/index.php/termine/gauball-in-brannenburg
DESCRIPTION:Gauball in Brannenburg\Nin der Wendelstoahalle
X-ALT-DESC;FMTTYPE=text/html:<p>Gauball in Brannenburg</p><p>in der Wendelstoahalle</p>
X-ACCESS:1
X-HITS:15
X-COLOR:fa0505
X-SHOW-END-TIME:1
END:VEVENT
BEGIN:VEVENT
DTSTART;TZID=Europe/Berlin:20240712T200000
DTEND;TZID=Europe/Berlin:20240712T233000
UID:572D1DA5-431C-4B71-8E13-403BEE96C845
SUMMARY:Gauheimatabend
CREATED:20240225T090730Z
DTSTAMP:20240225T090730Z
URL:https://edelweiss-aibling.de/index.php/termine/gauheimatabend-2
DESCRIPTION:Gauheimatabend in Altenbeuern
X-ALT-DESC;FMTTYPE=text/html:<p>Gauheimatabend in Altenbeuern</p>
X-ACCESS:1
X-HITS:20
X-COLOR:fa0505
X-SHOW-END-TIME:1
END:VEVENT
BEGIN:VEVENT
DTSTART;TZID=Europe/Berlin:20240714T091500
DTEND;TZID=Europe/Berlin:20240714T200000
UID:DB2090B0-ED95-450D-A90B-F0D8680DDBE2
SUMMARY:Gaufest Altenbeuern
CREATED:20240225T090912Z
DTSTAMP:20240225T090912Z
URL:https://edelweiss-aibling.de/index.php/termine/gaufest-altenbeuern
DESCRIPTION:Gaufest Altenbeuern\N9.15 Uhr Kirchenzug - Festzug mit Musi &Trachtlerwagen
X-ALT-DESC;FMTTYPE=text/html:<p><a href="https://www.trachtenverein-altenbeuern.de/gaufest-2024-altenbeuern/">Gaufest Altenbeuern</a></p><p>9.15 Uhr Kirchenzug - Festzug mit Musi &amp;Trachtlerwagen</p>
LAST-MODIFIED:20240225T091713Z
SEQUENCE:481
X-ACCESS:1
X-HITS:18
X-COLOR:fa0505
X-SHOW-END-TIME:1
END:VEVENT
BEGIN:VEVENT
DTSTART;TZID=Europe/Berlin:20240721T090000
DTEND;TZID=Europe/Berlin:20240721T160000
UID:4783443D-45CF-4F66-82EB-834FFB9E4251
SUMMARY:Gaupreisplatteln
CREATED:20240225T091032Z
DTSTAMP:20240225T091032Z
URL:https://edelweiss-aibling.de/index.php/termine/gaupreisplatteln
DESCRIPTION:Gaupreisplatteln in Altenbeuern
X-ALT-DESC;FMTTYPE=text/html:<p>Gaupreisplatteln in Altenbeuern</p>
LAST-MODIFIED:20240225T091246Z
SEQUENCE:134
X-ACCESS:1
X-HITS:13
X-COLOR:fa0505
X-SHOW-END-TIME:1
END:VEVENT
BEGIN:VEVENT
DTSTART;TZID=Europe/Berlin:20240721T090000
DTEND;TZID=Europe/Berlin:20240721T200000
UID:510D8606-5738-4166-B4B2-31B9A9667FFF
SUMMARY:Gaufest Westerham
CREATED:20240225T092117Z
DTSTAMP:20240225T092117Z
URL:https://edelweiss-aibling.de/index.php/termine/gaufest-westerham
DESCRIPTION:Gaufest Westerham
X-ALT-DESC;FMTTYPE=text/html:<p>Gaufest Westerham</p>
X-ACCESS:1
X-HITS:36
X-COLOR:fa0505
X-SHOW-END-TIME:1
END:VEVENT
BEGIN:VEVENT
DTSTART;TZID=Europe/Berlin:20240818T093000
DTEND;TZID=Europe/Berlin:20240818T120000
UID:0CE78A60-71F6-41D5-B591-B72A6C7C3B53
SUMMARY:Gauwallfahrt - Schwarzlack
CREATED:20240225T114512Z
DTSTAMP:20240225T114512Z
URL:https://edelweiss-aibling.de/index.php/termine/gauwallfahrt-schwarzlack
DESCRIPTION:Gauwallfahrt - Schwarzlack Brannenburg
X-ALT-DESC;FMTTYPE=text/html:<p>Gauwallfahrt - Schwarzlack Brannenburg</p>
LAST-MODIFIED:20240225T114821Z
SEQUENCE:189
X-ACCESS:1
X-HITS:18
X-COLOR:fa0505
X-SHOW-END-TIME:1
END:VEVENT
BEGIN:VEVENT
DTSTART;TZID=Europe/Berlin:20250118T100000
DTEND;TZID=Europe/Berlin:20250118T110000
UID:8068FF5D-9121-4AAE-BA2B-E58B0D110F2F
SUMMARY:Gau Vorständebesprechung in Raubling
CREATED:20250114T221403Z
DTSTAMP:20250114T221403Z
URL:https://edelweiss-aibling.de/index.php/termine/gau-vorstaendebesprechung-in-raubling
LAST-MODIFIED:20250114T224129Z
SEQUENCE:1646
LOCATION:31 Bahnhofstraße\, Raubling\, Bayern 83064\, Deutschland
GEO:47.78925740;12.11000420
X-LOCATION-DISPLAYNAME:Raubling
X-ACCESS:1
X-HITS:7
X-COLOR:fa0505
X-SHOW-END-TIME:0
END:VEVENT
BEGIN:VEVENT
DTSTART;TZID=Europe/Berlin:20250126T133000
DTEND;TZID=Europe/Berlin:20250126T143000
UID:1CDB78EA-2B1D-4FA0-A99B-BB221C573998
SUMMARY:Gaujugendtanz
CREATED:20250114T221930Z
DTSTAMP:20250114T221930Z
URL:https://edelweiss-aibling.de/index.php/termine/gaujugendtanz-2
LAST-MODIFIED:20250114T224117Z
SEQUENCE:1307
LOCATION:13 Steinstraße\, Raubling\, Bayern 83064\, Deutschland
GEO:47.78867445;12.10490559
X-LOCATION-DISPLAYNAME:Beim Huberwirt
X-ACCESS:1
X-HITS:4
X-COLOR:fa0505
X-SHOW-END-TIME:0
END:VEVENT
BEGIN:VEVENT
DTSTART;TZID=Europe/Berlin:20250406T100000
DTEND;TZID=Europe/Berlin:20250406T110000
UID:A77480FF-F4C8-4459-80B8-9B88095BFD44
SUMMARY:Gau-Frühjahrsversammlung
CREATED:20250114T224003Z
DTSTAMP:20250114T224003Z
URL:https://edelweiss-aibling.de/index.php/termine/gau-fruehjahrsversammlung
LAST-MODIFIED:20250114T224003Z
SEQUENCE:0
LOCATION:29 Rosenheimer Straße\, Brannenburg\, Bayern 83098\, Deutschland
GEO:47.73754350;12.10437950
X-LOCATION-DISPLAYNAME:Brannenburg
X-ACCESS:1
X-HITS:10
X-COLOR:fa0505
X-SHOW-END-TIME:0
END:VEVENT
BEGIN:VEVENT
DTSTART;TZID=Europe/Berlin:20250711T200000
DTEND;TZID=Europe/Berlin:20250711T210000
UID:AEB74EA0-8B98-4234-AACA-6F58CD129E07
SUMMARY:Gauheimatabend Brannenburg
CREATED:20250321T200828Z
DTSTAMP:20250321T200828Z
URL:https://edelweiss-aibling.de/index.php/termine/gauheimatabend-brannenburg
LAST-MODIFIED:20250321T204036Z
SEQUENCE:1928
X-ACCESS:1
X-HITS:22
X-COLOR:fa0505
X-SHOW-END-TIME:0
END:VEVENT
BEGIN:VEVENT
DTSTART;VALUE=DATE:20250713
DTEND;VALUE=DATE:20250714
UID:D7A7FF8A-E824-4D9D-900A-DCE4E92FBC5E
SUMMARY:Gaufest Brannenburg
CREATED:20250321T200958Z
DTSTAMP:20250321T200958Z
URL:https://edelweiss-aibling.de/index.php/termine/gaufest-brannenburg
DESCRIPTION:9.15 Uhr Kirchenzug - mit Musi & Trachtlerwagen / Einmarsch
X-ALT-DESC;FMTTYPE=text/html:<p>9.15 Uhr Kirchenzug - mit Musi &amp; Trachtlerwagen / Einmarsch</p>
LAST-MODIFIED:20250321T204056Z
SEQUENCE:1858
X-ACCESS:1
X-HITS:40
X-COLOR:fa0505
X-SHOW-END-TIME:1
END:VEVENT
BEGIN:VEVENT
DTSTART;VALUE=DATE:20250719
DTEND;VALUE=DATE:20250720
UID:9E26198F-52D9-4133-9906-93841F98FF2F
SUMMARY:Gaupreisplatteln in Brannenburg
CREATED:20250321T201216Z
DTSTAMP:20250321T201216Z
URL:https://edelweiss-aibling.de/index.php/termine/gaupreisplatteln-in-brannenburg
LAST-MODIFIED:20250321T204147Z
SEQUENCE:1771
X-ACCESS:1
X-HITS:23
X-COLOR:fa0505
X-SHOW-END-TIME:1
END:VEVENT
BEGIN:VEVENT
DTSTART;TZID=Europe/Berlin:20250817T093000
DTEND;TZID=Europe/Berlin:20250817T093000
UID:B25D0195-7EC0-4F70-828E-E999A9B55921
SUMMARY:Gauwallfahrt aufd Schwarzlack
CREATED:20250321T201432Z
DTSTAMP:20250321T201432Z
URL:https://edelweiss-aibling.de/index.php/termine/gauwallfahrt-aufd-schwarzlack
LAST-MODIFIED:20250321T204906Z
SEQUENCE:2074
X-ACCESS:1
X-HITS:20
X-COLOR:fa0505
X-SHOW-END-TIME:1
END:VEVENT
BEGIN:VEVENT
DTSTART;VALUE=DATE:20251012
DTEND;VALUE=DATE:20251013
UID:EE2F7218-1289-42E3-ABB6-12CF20563A68
SUMMARY:Gaujugendpreisplatteln
CREATED:20250321T201909Z
DTSTAMP:20250321T201909Z
URL:https://edelweiss-aibling.de/index.php/termine/gaujugendpreisplatteln
LAST-MODIFIED:20250321T205039Z
SEQUENCE:1890
X-ACCESS:1
X-HITS:15
X-COLOR:fa0505
X-SHOW-END-TIME:1
END:VEVENT
BEGIN:VEVENT
DTSTART;TZID=Europe/Berlin:20251017T200000
DTEND;TZID=Europe/Berlin:20251017T210000
UID:C6B24888-5EC0-444D-BCD1-7A01BBDC4632
SUMMARY:Gauherbstversammlung
CREATED:20250321T202115Z
DTSTAMP:20250321T202115Z
URL:https://edelweiss-aibling.de/index.php/termine/gauherbstversammlung
DESCRIPTION:beim Happinger Hof
X-ALT-DESC;FMTTYPE=text/html:<p>beim Happinger Hof</p>
LAST-MODIFIED:20250321T205106Z
SEQUENCE:1791
X-ACCESS:1
X-HITS:17
X-COLOR:fa0505
X-SHOW-END-TIME:0
END:VEVENT
BEGIN:VEVENT
DTSTART;TZID=Europe/Berlin:20260322T100000
DTEND;TZID=Europe/Berlin:20260322T110000
UID:D49F7D9D-6E60-438B-BACE-5CAFD7B6AF1F
SUMMARY:Gau Frühjahrsversammlung
CREATED:20260202T143345Z
DTSTAMP:20260202T143345Z
URL:https://edelweiss-aibling.de/index.php/termine/gau-fruehjahrsversammlung-2
LAST-MODIFIED:20260202T143433Z
SEQUENCE:48
LOCATION:6\, 8 Dorfplatz\, Nußdorf\, Bayern 83365\, Deutschland
GEO:47.90568980;12.59673700
X-LOCATION-DISPLAYNAME:Nußdorf
X-ACCESS:1
X-HITS:0
X-COLOR:fa0505
X-SHOW-END-TIME:0
END:VEVENT
BEGIN:VEVENT
DTSTART;TZID=Europe/Berlin:20260327T200000
DTEND;TZID=Europe/Berlin:20260327T210000
UID:F296EF80-4D5F-4888-9969-95700D7A52D9
SUMMARY:Gau - boarische Singstund, Vereinsheim Kolbermoor
CREATED:20260202T143703Z
DTSTAMP:20260202T143703Z
URL:https://edelweiss-aibling.de/index.php/termine/gau-boarische-singstund
LAST-MODIFIED:20260202T143748Z
SEQUENCE:45
X-ACCESS:1
X-HITS:1
X-COLOR:fa0505
X-SHOW-END-TIME:0
END:VEVENT
BEGIN:VEVENT
DTSTART;TZID=Europe/Berlin:20260418T200000
DTEND;TZID=Europe/Berlin:20260418T210000
UID:9BBB14B7-23DE-4C2B-AE53-D98F2DC6F7BE
SUMMARY:Gauball in Raubling - Huberwirt 
CREATED:20260202T144014Z
DTSTAMP:20260202T144014Z
URL:https://edelweiss-aibling.de/index.php/termine/gauball-in-raubling-huberwirt
LAST-MODIFIED:20260202T144037Z
SEQUENCE:23
X-ACCESS:1
X-HITS:0
X-COLOR:fa0505
X-SHOW-END-TIME:0
END:VEVENT
BEGIN:VEVENT
DTSTART;TZID=Europe/Berlin:20260710T200000
DTEND;TZID=Europe/Berlin:20260710T210000
UID:F40FA42D-D78D-41F0-9D57-99DF3C770A2C
SUMMARY:Gauheimatabend
CREATED:20260202T145414Z
DTSTAMP:20260202T145414Z
URL:https://edelweiss-aibling.de/index.php/termine/gauheimatabend-3
LAST-MODIFIED:20260202T145414Z
SEQUENCE:0
LOCATION:6\, 8 Dorfplatz\, Nußdorf\, Bayern 83365\, Deutschland
GEO:47.90568980;12.59673700
X-LOCATION-DISPLAYNAME:Nußdorf
X-ACCESS:1
X-HITS:0
X-COLOR:fa0505
X-SHOW-END-TIME:0
END:VEVENT
BEGIN:VEVENT
DTSTART;TZID=Europe/Berlin:20260712T091500
DTEND;TZID=Europe/Berlin:20260712T101500
UID:5E3C1103-CF41-44F9-AFAB-F8EC334CB96B
SUMMARY:Gaufest Nußdorf
CREATED:20260202T145547Z
DTSTAMP:20260202T145547Z
URL:https://edelweiss-aibling.de/index.php/termine/gaufest-nussdorf
DESCRIPTION:Beginn mit Kirchenzug
X-ALT-DESC;FMTTYPE=text/html:<p>Beginn mit Kirchenzug</p>
LAST-MODIFIED:20260202T145547Z
SEQUENCE:0
LOCATION:6\, 8 Dorfplatz\, Nußdorf\, Bayern 83365\, Deutschland
GEO:47.90568980;12.59673700
X-LOCATION-DISPLAYNAME:Nußdorf
X-ACCESS:1
X-HITS:1
X-COLOR:fa0505
X-SHOW-END-TIME:0
END:VEVENT
BEGIN:VEVENT
DTSTART;VALUE=DATE:20260719
DTEND;VALUE=DATE:20260720
UID:29900E57-9A45-4A0C-928B-766EFA00DEE0
SUMMARY:Gaudirndldrahn
CREATED:20260202T145658Z
DTSTAMP:20260202T145658Z
URL:https://edelweiss-aibling.de/index.php/termine/gaudirndldrahn
LAST-MODIFIED:20260202T145658Z
SEQUENCE:0
LOCATION:6\, 8 Dorfplatz\, Nußdorf\, Bayern 83365\, Deutschland
GEO:47.90568980;12.59673700
X-LOCATION-DISPLAYNAME:Nußdorf
X-ACCESS:1
X-HITS:0
X-COLOR:fa0505
X-SHOW-END-TIME:1
END:VEVENT
BEGIN:VEVENT
DTSTART;TZID=Europe/Berlin:20260823T093000
DTEND;TZID=Europe/Berlin:20260823T103000
UID:A13C6B1D-BBF0-4D3F-A52B-699AC5E6D8E4
SUMMARY:Gauwallfahrt
CREATED:20260202T150143Z
DTSTAMP:20260202T150143Z
URL:https://edelweiss-aibling.de/index.php/termine/gauwallfahrt
LAST-MODIFIED:20260202T150143Z
SEQUENCE:0
LOCATION:Schwarzlack\, Brannenburg\, Bayern 83098\, Deutschland
GEO:47.74906940;12.07718230
X-LOCATION-DISPLAYNAME:Schwarzlack
X-ACCESS:1
X-HITS:0
X-COLOR:fa0505
X-SHOW-END-TIME:0
END:VEVENT
BEGIN:VEVENT
DTSTART;VALUE=DATE:20261011
DTEND;VALUE=DATE:20261012
UID:971B54CD-FBD5-4DE8-9932-2347D40B8FF0
SUMMARY:Gaudirndldrahn
CREATED:20260202T150756Z
DTSTAMP:20260202T150756Z
URL:https://edelweiss-aibling.de/index.php/termine/gaudirndldrahn-2
LAST-MODIFIED:20260202T152128Z
SEQUENCE:812
LOCATION:St.-Jakobus-Platz\, Rohrdorf\, Bayern 83101\, Deutschland
GEO:47.79907070;12.16758120
X-LOCATION-DISPLAYNAME:Rohrdorf
X-ACCESS:1
X-HITS:1
X-COLOR:fa0505
X-SHOW-END-TIME:1
END:VEVENT
BEGIN:VEVENT
DTSTART;TZID=Europe/Berlin:20261016T200000
DTEND;TZID=Europe/Berlin:20261016T210000
UID:8D73C837-9ACA-43A1-A0CA-6FF9312AB427
SUMMARY:Gauherbstversammlung
CREATED:20260202T150846Z
DTSTAMP:20260202T150846Z
URL:https://edelweiss-aibling.de/index.php/termine/gauherbstversammlung-2
LAST-MODIFIED:20260202T150846Z
SEQUENCE:0
LOCATION:Happinger Straße\, Rosenheim\, Bayern 83026\, Deutschland
GEO:47.83020720;12.12758030
X-LOCATION-DISPLAYNAME:Happinger Hof
X-ACCESS:1
X-HITS:1
X-COLOR:fa0505
X-SHOW-END-TIME:0
END:VEVENT
BEGIN:VEVENT
DTSTART;VALUE=DATE:20261025
DTEND;VALUE=DATE:20261026
UID:5646B665-3862-4605-B335-7DD192978F30
SUMMARY:Gaujugendsingen -und musiziere
CREATED:20260202T151016Z
DTSTAMP:20260202T151016Z
URL:https://edelweiss-aibling.de/index.php/termine/gaujugendsingen-und-musiziere
LAST-MODIFIED:20260202T151016Z
SEQUENCE:0
X-ACCESS:1
X-HITS:1
X-COLOR:fa0505
X-SHOW-END-TIME:1
END:VEVENT
BEGIN:VEVENT
DTSTART;TZID=Europe/Berlin:20261113T200000
DTEND;TZID=Europe/Berlin:20261113T210000
UID:F8C81D97-3313-49AD-B763-2FDE4996088B
SUMMARY:Gau - Boarische Singstund
CREATED:20260202T151308Z
DTSTAMP:20260202T151308Z
URL:https://edelweiss-aibling.de/index.php/termine/gau-boarische-singstund-2
LAST-MODIFIED:20260202T151308Z
SEQUENCE:0
LOCATION:Marktplatz\, Rott am Inn\, Bayern 83543\, Deutschland
GEO:47.98276880;12.12771480
X-LOCATION-DISPLAYNAME:Rott am Inn
X-ACCESS:1
X-HITS:0
X-COLOR:fa0505
X-SHOW-END-TIME:0
END:VEVENT
END:VCALENDAR