BEGIN:VCALENDAR
VERSION:2.0
PRODID:DPCALENDAR
CALSCALE:GREGORIAN
BEGIN:VTIMEZONE
TZID:Europe/Berlin
X-MICROSOFT-CDO-TZID:4
BEGIN:STANDARD
DTSTART:20251026T010000
TZOFFSETFROM:+0200
TZOFFSETTO:+0100
TZNAME:CET
END:STANDARD
BEGIN:STANDARD
DTSTART:20261025T010000
TZOFFSETFROM:+0200
TZOFFSETTO:+0100
TZNAME:CET
END:STANDARD
BEGIN:DAYLIGHT
DTSTART:20260329T010000
TZOFFSETFROM:+0100
TZOFFSETTO:+0200
TZNAME:CEST
END:DAYLIGHT
END:VTIMEZONE
X-WR-TIMEZONE:Europe/Berlin
BEGIN:VEVENT
DTSTART;TZID=Europe/Berlin:20240202T190000
DTEND;TZID=Europe/Berlin:20240202T230000
UID:A6A2FD7F-8053-4A2F-84EA-8CC41D77EFA8
SUMMARY:Trachtlertreffen 18er Gemeinschaft
CREATED:20240129T185203Z
DTSTAMP:20240129T185203Z
URL:https://edelweiss-aibling.de/index.php/termine/trachtlertreffen-18er-gemeinschaft
DESCRIPTION:Die Gemeinschaft der 18 Trachtenvereine des Altlandkreises Bad Aibilng lädt zu einem gemütlichen Stammtischabend "Trachtler-Treffen" in die Weinstube im Gasthof Kriechbaumer in Mietraching.
X-ALT-DESC;FMTTYPE=text/html:<p>Die Gemeinschaft der 18 Trachtenvereine des Altlandkreises Bad Aibilng lädt zu einem gemütlichen Stammtischabend "Trachtler-Treffen" in die Weinstube im Gasthof Kriechbaumer in Mietraching.</p>
X-ACCESS:1
X-HITS:25
X-COLOR:3366cc
X-SHOW-END-TIME:1
END:VEVENT
BEGIN:VEVENT
DTSTART;TZID=Europe/Berlin:20240322T193000
DTEND;TZID=Europe/Berlin:20240322T230000
UID:62CD53CC-63E4-43FB-9B0C-56B8CF5CC544
SUMMARY:18er Jugendsingen- und musizieren
CREATED:20240225T084037Z
DTSTAMP:20240225T084037Z
URL:https://edelweiss-aibling.de/index.php/termine/18er-jugendsingen-und-musizieren
DESCRIPTION:18er Jugendsingen- und musizieren\NKistlerwirt in Bad Feilnbach
X-ALT-DESC;FMTTYPE=text/html:<p>18er Jugendsingen- und musizieren</p><p>Kistlerwirt in Bad Feilnbach</p>
LOCATION:
GEO:47.77608575;12.01127345
X-LOCATION-DISPLAYNAME:Deutschland, Bayern, Landkreis Rosenheim, Bad Feilnbach, 83075, Münchner Straße, 21
X-ACCESS:1
X-HITS:23
X-COLOR:3366cc
X-SHOW-END-TIME:1
END:VEVENT
BEGIN:VEVENT
DTSTART;TZID=Europe/Berlin:20240428T091500
DTEND;TZID=Europe/Berlin:20240428T130000
UID:F62B53C9-55A8-4510-99D4-29DBC86812E6
SUMMARY:18er Bittgang
CREATED:20240225T085119Z
DTSTAMP:20240225T085119Z
URL:https://edelweiss-aibling.de/index.php/termine/18er-bittgang
DESCRIPTION:18er Bittgang nach Höhenrain\NAbmarsch um 9.15 Uhr in Maxhofen\NKirche 10.30Uhr\N 
X-ALT-DESC;FMTTYPE=text/html:<p>18er Bittgang nach Höhenrain</p><p>Abmarsch um 9.15 Uhr in Maxhofen</p><p>Kirche 10.30Uhr</p><p> </p>
LAST-MODIFIED:20240424T204453Z
SEQUENCE:5140414
X-ACCESS:1
X-HITS:42
X-COLOR:3366cc
X-IMAGE-FULL:https://edelweiss-aibling.de/images/Termine/Screenshot%202024-04-23%20131513.png
X-IMAGE-INTRO:https://edelweiss-aibling.de/images/Termine/Screenshot%202024-04-23%20131513.png
X-SHOW-END-TIME:1
END:VEVENT
BEGIN:VEVENT
DTSTART;TZID=Europe/Berlin:20241025T200000
DTEND;TZID=Europe/Berlin:20241025T233000
UID:A2FD2209-A252-4E8A-A599-08A6A020CDD2
SUMMARY:18er Kirta
CREATED:20240225T115631Z
DTSTAMP:20240225T115631Z
URL:https://edelweiss-aibling.de/index.php/termine/18er-kirta
DESCRIPTION:18er Kirta beim Wirt in Mietraching
X-ALT-DESC;FMTTYPE=text/html:<p>18er Kirta beim Wirt in Mietraching</p>
X-ACCESS:1
X-HITS:34
X-COLOR:3366cc
X-SHOW-END-TIME:1
END:VEVENT
BEGIN:VEVENT
DTSTART;TZID=Europe/Berlin:20250131T190000
DTEND;TZID=Europe/Berlin:20250131T200000
UID:E54B2EC7-0BDC-4ABB-A947-88B08BAF1E63
SUMMARY:18er-Trachtler-Treffen
CREATED:20250114T222648Z
DTSTAMP:20250114T222648Z
URL:https://edelweiss-aibling.de/index.php/termine/18er-trachtler-treffen
LAST-MODIFIED:20250114T222648Z
SEQUENCE:0
LOCATION:72 Ebersberger Straße\, Bad Aibling\, Bayern 83043\, Deutschland
GEO:47.87944810;11.99428150
X-LOCATION-DISPLAYNAME:Gasthof Kriechbaumer
X-ACCESS:1
X-HITS:16
X-COLOR:3366cc
X-SHOW-END-TIME:0
END:VEVENT
BEGIN:VEVENT
DTSTART;TZID=Europe/Berlin:20250210T200000
DTEND;TZID=Europe/Berlin:20250210T210000
UID:A7B83FD4-6735-4851-9064-C315B8EA3CCF
SUMMARY:18er Versammlung
CREATED:20250114T222757Z
DTSTAMP:20250114T222757Z
URL:https://edelweiss-aibling.de/index.php/termine/18er-versammlung
LAST-MODIFIED:20250114T222928Z
SEQUENCE:91
LOCATION:1 Wilhelm-Leibl-Platz\, Bad Aibling\, Bayern 83043\, Deutschland
GEO:47.86146215;12.00921768
X-LOCATION-DISPLAYNAME:Kurhaus / Allegro
X-ACCESS:1
X-HITS:15
X-COLOR:3366cc
X-SHOW-END-TIME:0
END:VEVENT
BEGIN:VEVENT
DTSTART;TZID=Europe/Berlin:20250328T193000
DTEND;TZID=Europe/Berlin:20250328T203000
UID:DB29DBD3-F2B4-4658-9D38-2792C1F883F9
SUMMARY:18er Jugendsingen- und musizieren
CREATED:20250114T223740Z
DTSTAMP:20250114T223740Z
URL:https://edelweiss-aibling.de/index.php/termine/18er-jugendsingen-und-musizieren-2
LAST-MODIFIED:20250114T223740Z
SEQUENCE:0
LOCATION:5 Großkarolinenfeld\, Bayern 83109\, Deutschland
GEO:47.90332950;12.05415437
X-LOCATION-DISPLAYNAME:Wirt von Dred
X-ACCESS:1
X-HITS:37
X-COLOR:3366cc
X-SHOW-END-TIME:0
END:VEVENT
BEGIN:VEVENT
DTSTART;TZID=Europe/Berlin:20250427T091500
DTEND;TZID=Europe/Berlin:20250427T101500
UID:5EFB7772-F9F6-45A8-AA35-E61C4EDDE6BD
SUMMARY:18er Bittgang nach Höhenrain
CREATED:20250114T224637Z
DTSTAMP:20250114T224637Z
URL:https://edelweiss-aibling.de/index.php/termine/18er-bittgang-nach-hoehenrain
DESCRIPTION:Kirche 10.30Uhr
X-ALT-DESC;FMTTYPE=text/html:<p>Kirche 10.30Uhr</p>
LAST-MODIFIED:20250114T224637Z
SEQUENCE:0
LOCATION:9 Wertacher Straße\, Bruckmühl\, Bayern 83052\, Deutschland
GEO:47.89756190;11.91011850
X-LOCATION-DISPLAYNAME:Maxhofen
X-ACCESS:1
X-HITS:45
X-COLOR:3366cc
X-SHOW-END-TIME:0
END:VEVENT
BEGIN:VEVENT
DTSTART;VALUE=DATE:20250525
DTEND;VALUE=DATE:20250526
UID:6CDD3170-37CB-4394-B67B-BFED0BA71D1B
SUMMARY:Patentreffen Schönau 100 Jahre Paten
CREATED:20250114T225110Z
DTSTAMP:20250114T225110Z
URL:https://edelweiss-aibling.de/index.php/termine/patentreffen-schoenau-100-jahre-paten
DESCRIPTION:Ort und Zeit sind noch offen
X-ALT-DESC;FMTTYPE=text/html:<p>Ort und Zeit sind noch offen</p>
LAST-MODIFIED:20250114T225110Z
SEQUENCE:0
X-ACCESS:1
X-HITS:31
X-COLOR:3366cc
X-SHOW-END-TIME:0
END:VEVENT
BEGIN:VEVENT
DTSTART;VALUE=DATE:20250714
DTEND;VALUE=DATE:20250715
UID:6584A18A-DEB9-40DC-961E-7DE3C5DCD6A3
SUMMARY:Volksfest Bruckmühl
CREATED:20250321T201118Z
DTSTAMP:20250321T201118Z
URL:https://edelweiss-aibling.de/index.php/termine/volksfest-bruckmuehl
LAST-MODIFIED:20250321T201118Z
SEQUENCE:0
X-ACCESS:1
X-HITS:67
X-COLOR:3366cc
X-SHOW-END-TIME:1
END:VEVENT
BEGIN:VEVENT
DTSTART;VALUE=DATE:20251024
DTEND;VALUE=DATE:20251025
UID:E6BF1A7C-828B-49A5-AFA8-DBBE061F8C58
SUMMARY:18er Kirta
CREATED:20250321T202233Z
DTSTAMP:20250321T202233Z
URL:https://edelweiss-aibling.de/index.php/termine/18er-kirta-2
DESCRIPTION:Beim Wirt in Mietraching
X-ALT-DESC;FMTTYPE=text/html:<p>Beim Wirt in Mietraching</p>
LAST-MODIFIED:20250321T202233Z
SEQUENCE:0
X-ACCESS:1
X-HITS:28
X-COLOR:3366cc
X-SHOW-END-TIME:1
END:VEVENT
BEGIN:VEVENT
DTSTART;TZID=Europe/Berlin:20260202T200000
DTEND;TZID=Europe/Berlin:20260202T210000
UID:4B0AD94E-EA75-43D7-81D2-BC1DBAD35B88
SUMMARY:18er Versammlung
CREATED:20260202T142851Z
DTSTAMP:20260202T142851Z
URL:https://edelweiss-aibling.de/index.php/termine/18er-versammlung-2
DESCRIPTION:im Vereinsheim Ostermünchen
X-ALT-DESC;FMTTYPE=text/html:<p>im Vereinsheim Ostermünchen</p>
LAST-MODIFIED:20260202T142851Z
SEQUENCE:0
LOCATION:18 Rainer Straße\, Ostermünchen\, Bayern 83104\, Deutschland
GEO:47.94879010;12.03809240
X-LOCATION-DISPLAYNAME:Rainer Straße
X-ACCESS:1
X-HITS:1
X-COLOR:3366cc
X-SHOW-END-TIME:0
END:VEVENT
BEGIN:VEVENT
DTSTART;TZID=Europe/Berlin:20260321T193000
DTEND;TZID=Europe/Berlin:20260321T203000
UID:9F072D7A-9B30-4A50-A233-ED2263EEFAC0
SUMMARY:18er Jugendsingen- und musizieren
CREATED:20260202T143129Z
DTSTAMP:20260202T143129Z
URL:https://edelweiss-aibling.de/index.php/termine/18er-jugendsingen-und-musizieren-3
LAST-MODIFIED:20260202T143418Z
SEQUENCE:169
LOCATION:Fuchsbergstraße\, Tuntenhausen\, Bayern 83104\, Deutschland
GEO:47.93456700;12.01441070
X-LOCATION-DISPLAYNAME:Gasthof Schmid
X-ACCESS:1
X-HITS:4
X-COLOR:3366cc
X-SHOW-END-TIME:0
END:VEVENT
BEGIN:VEVENT
DTSTART;TZID=Europe/Berlin:20260428T091500
DTEND;TZID=Europe/Berlin:20260428T101500
UID:EC0293DF-CDFF-494F-A306-91778166813D
SUMMARY:18er Bittgang nach Höhenrain
CREATED:20260202T144509Z
DTSTAMP:20260202T144509Z
URL:https://edelweiss-aibling.de/index.php/termine/18er-bittgang-nach-hoehenrain-2
DESCRIPTION:Abmarsch 9.15 Uhr in Maxhofen / Kirche 10.30Uhr
X-ALT-DESC;FMTTYPE=text/html:<p>Abmarsch 9.15 Uhr in Maxhofen / Kirche 10.30Uhr</p>
LAST-MODIFIED:20260202T144509Z
SEQUENCE:0
X-ACCESS:1
X-HITS:2
X-COLOR:3366cc
X-SHOW-END-TIME:0
END:VEVENT
BEGIN:VEVENT
DTSTART;TZID=Europe/Berlin:20260914T200000
DTEND;TZID=Europe/Berlin:20260914T210000
UID:DA602BE0-CFD2-4786-BDB7-60B000B661D0
SUMMARY:18er Versammlung Vereinheim Bruckmühl
CREATED:20260202T150358Z
DTSTAMP:20260202T150358Z
URL:https://edelweiss-aibling.de/index.php/termine/18er-versammlung-vereinheim-bruckmuehl
LAST-MODIFIED:20260202T150358Z
SEQUENCE:0
X-ACCESS:1
X-HITS:0
X-COLOR:3366cc
X-SHOW-END-TIME:0
END:VEVENT
BEGIN:VEVENT
DTSTART;VALUE=DATE:20261023
DTEND;VALUE=DATE:20261024
UID:6A3BDFA1-C315-421C-8D9C-3B0388A5037A
SUMMARY:18er kirta
CREATED:20260202T150945Z
DTSTAMP:20260202T150945Z
URL:https://edelweiss-aibling.de/index.php/termine/18er-kirta-3
LAST-MODIFIED:20260202T150945Z
SEQUENCE:0
LOCATION:72 Ebersberger Straße\, Bad Aibling\, Bayern 83043\, Deutschland
GEO:47.87944810;11.99428150
X-LOCATION-DISPLAYNAME:Gasthof Kriechbaumer
X-ACCESS:1
X-HITS:12
X-COLOR:3366cc
X-SHOW-END-TIME:1
END:VEVENT
END:VCALENDAR